BEGIN:VCALENDAR
VERSION:2.0
PRODID:-//Find Kenmore - ECPv6.15.20//NONSGML v1.0//EN
CALSCALE:GREGORIAN
METHOD:PUBLISH
X-WR-CALNAME:Find Kenmore
X-ORIGINAL-URL:https://findkenmore.org
X-WR-CALDESC:Events for Find Kenmore
REFRESH-INTERVAL;VALUE=DURATION:PT1H
X-Robots-Tag:noindex
X-PUBLISHED-TTL:PT1H
BEGIN:VTIMEZONE
TZID:America/Los_Angeles
BEGIN:DAYLIGHT
TZOFFSETFROM:-0800
TZOFFSETTO:-0700
TZNAME:PDT
DTSTART:20250309T100000
END:DAYLIGHT
BEGIN:STANDARD
TZOFFSETFROM:-0700
TZOFFSETTO:-0800
TZNAME:PST
DTSTART:20251102T090000
END:STANDARD
BEGIN:DAYLIGHT
TZOFFSETFROM:-0800
TZOFFSETTO:-0700
TZNAME:PDT
DTSTART:20260308T100000
END:DAYLIGHT
BEGIN:STANDARD
TZOFFSETFROM:-0700
TZOFFSETTO:-0800
TZNAME:PST
DTSTART:20261101T090000
END:STANDARD
BEGIN:DAYLIGHT
TZOFFSETFROM:-0800
TZOFFSETTO:-0700
TZNAME:PDT
DTSTART:20270314T100000
END:DAYLIGHT
BEGIN:STANDARD
TZOFFSETFROM:-0700
TZOFFSETTO:-0800
TZNAME:PST
DTSTART:20271107T090000
END:STANDARD
END:VTIMEZONE
BEGIN:VEVENT
DTSTART;TZID=America/Los_Angeles:20260121T183000
DTEND;TZID=America/Los_Angeles:20260121T193000
DTSTAMP:20260422T052054
CREATED:20260102T202140Z
LAST-MODIFIED:20260102T202140Z
UID:7702-1769020200-1769023800@findkenmore.org
SUMMARY:Cook's Book Group
DESCRIPTION:In January\, we begin the year with: \nClaudia Roden’s Mediterranean: Treasured Recipes From a Lifetime of Travel \nTry making one or more recipes of your choice from this month’s cookbook! Send a photo of your finished dish or dishes to the librarian host along with brief comments about your experience. \nWe cannot share food at these meetings; instead watch a slide show of our cooking adventures and share successes and failures! \nPlease register for either the online event or the in-person event. Register for each session that you wish to attend. Walk-ins welcome. All events are listed here:\nhttps://1.kcls.org/CookbookBkGrp \nYou will be emailed a link no later than two hours before the program start time\, so that you can attend online if you wish. If you do not see an email\, check your Junk or Spam folder.
URL:https://findkenmore.org/event/cooks-book-group-4/
LOCATION:Kenmore Library\, 6531 NE 181st Street\, Kenmore\, 98028
ATTACH;FMTTYPE=image/jpeg:https://findkenmore.org/wp-content/uploads/2025/12/ClaudiaRodensMediterranean.jpg
ORGANIZER;CN="Kenmore Library":MAILTO:jgibson@kcls.org
END:VEVENT
BEGIN:VEVENT
DTSTART;TZID=America/Los_Angeles:20260123T140000
DTEND;TZID=America/Los_Angeles:20260123T153000
DTSTAMP:20260422T052054
CREATED:20260102T202206Z
LAST-MODIFIED:20260102T202206Z
UID:7707-1769176800-1769182200@findkenmore.org
SUMMARY:Kenmore Afternoon Book Group
DESCRIPTION:The Briar Club by Kate Quinn \nNew members always welcome. \nPlease register with an email address to receive discussion questions. If you register\, you will be emailed a link the day before the program\, so that you can attend online if you wish. \nWalk-ins welcome.
URL:https://findkenmore.org/event/kenmore-afternoon-book-group-2/
LOCATION:Kenmore Library\, 6531 NE 181st Street\, Kenmore\, 98028
ATTACH;FMTTYPE=image/jpeg:https://findkenmore.org/wp-content/uploads/2025/12/BriarClub.jpg
ORGANIZER;CN="Kenmore Library":MAILTO:jgibson@kcls.org
END:VEVENT
BEGIN:VEVENT
DTSTART;TZID=America/Los_Angeles:20260123T183000
DTEND;TZID=America/Los_Angeles:20260123T200000
DTSTAMP:20260422T052054
CREATED:20260110T005005Z
LAST-MODIFIED:20260110T005005Z
UID:7805-1769193000-1769198400@findkenmore.org
SUMMARY:IMAGINE Presents "Trivia Night"
DESCRIPTION:Come with a team or join a team and go head to head in a themed game of Disney trivia. Do you have what it takes to win?
URL:https://findkenmore.org/event/imagine-presents-trivia-night/
LOCATION:Northlake Lutheran Church\, 6620 NE 185th Street\, Kenmore\, WA\, 98028\, United States
ATTACH;FMTTYPE=image/png:https://findkenmore.org/wp-content/uploads/2026/01/2026.01.23_Trivia-1.png
ORGANIZER;CN="Northlake Lutheran Church":MAILTO:Office@northlakelutheran.org
END:VEVENT
BEGIN:VEVENT
DTSTART;TZID=America/Los_Angeles:20260124T120000
DTEND;TZID=America/Los_Angeles:20260124T130000
DTSTAMP:20260422T052054
CREATED:20251223T002946Z
LAST-MODIFIED:20251223T002946Z
UID:7652-1769256000-1769259600@findkenmore.org
SUMMARY:Intro to the Pelvic Floor
DESCRIPTION:Spring Physical Therapy Presents: Intro to the Pelvic Floor\n\nThis workshop will primarily focus on movements for low back\, pelvic and hip pain and learning how to decrease tension to the pelvic floor.\n\nMadisen Bergh is a pelvic floor physical therapist and founder of Spring Physical Therapy. She has over 10 years of experience and specializes in working with women from pregnancy to post-menopause. She is excited to share the pelvic pain focused workshop which will primarily focus on breathwork through your ribcage and diaphragm\, coordination of your breath and pelvic floor\, hip and lumbar mobility and decreasing tension to the pelvis. The goal is to to help improve your yoga practice and improve your movement in daily life.\n\nSpaces are limited\, so be sure to secure your spot today!
URL:https://findkenmore.org/event/intro-to-the-pelvic-floor/
LOCATION:Lakeview Yoga\, 7800 NE Bothell Way\, Suite 155\, Kenmore\, WA\, 98028\, United States
ATTACH;FMTTYPE=image/jpeg:https://findkenmore.org/wp-content/uploads/2025/12/IMG_0317-2.jpg
END:VEVENT
BEGIN:VEVENT
DTSTART;TZID=America/Los_Angeles:20260124T150000
DTEND;TZID=America/Los_Angeles:20260124T180000
DTSTAMP:20260422T052054
CREATED:20260123T181057Z
LAST-MODIFIED:20260123T181057Z
UID:7903-1769266800-1769277600@findkenmore.org
SUMMARY:Auditions for Spring Musical "Seussical"
DESCRIPTION:Auditions for our spring musical are Saturday. Join the fun of “Seussical”!
URL:https://findkenmore.org/event/auditions-for-spring-musical-seussical/
LOCATION:Northlake Lutheran Church\, 6620 NE 185th Street\, Kenmore\, WA\, 98028\, United States
ATTACH;FMTTYPE=image/png:https://findkenmore.org/wp-content/uploads/2026/01/Seussical-Auditions.png
ORGANIZER;CN="Northlake Lutheran Church":MAILTO:Office@northlakelutheran.org
END:VEVENT
BEGIN:VEVENT
DTSTART;VALUE=DATE:20260128
DTEND;VALUE=DATE:20260129
DTSTAMP:20260422T052054
CREATED:20260124T001215Z
LAST-MODIFIED:20260124T001452Z
UID:7920-1769558400-1769644799@findkenmore.org
SUMMARY:De La Soil | Dinner With Friends: Chef Luke Kolpin
DESCRIPTION:Welcome to “Dinner with Friends” a chance for us to collaborate with our friends featuring seasonal tasting menus crafted in partnership with award-winning guest chefs. Each menu showcases the region’s finest ingredients sourced from local farms and paired with Copperworks’ acclaimed craft spirits. \n“These dinners are about bringing together the chefs and people who inspire us\,” said Chef Cody Westerfield\, co-owner of De La Soil. “Each collaboration tells a story of friendship\, shared values around food and farming\, and our collective commitment to showcasing what makes the Pacific Northwest so special.”
URL:https://findkenmore.org/event/dinner-with-friends-chef-luke-kolpin/
LOCATION:De La Soil\, 7324 NE 175th St\, Kenmore\, WA\, 98028\, United States
END:VEVENT
BEGIN:VEVENT
DTSTART;TZID=America/Los_Angeles:20260128T100000
DTEND;TZID=America/Los_Angeles:20260128T113000
DTSTAMP:20260422T052054
CREATED:20260110T005101Z
LAST-MODIFIED:20260110T005101Z
UID:7815-1769594400-1769599800@findkenmore.org
SUMMARY:Open office hours
DESCRIPTION:The Rev. Theresa Newell offers weekly open office hours. All are welcome to come see her. This is the perfect time to stop by and just chat with Rev. Theresa\, or to bring up any questions for her that you would like to discuss. \nAlthough unexpected\, an emergency may call Rev. Newell away from this.
URL:https://findkenmore.org/event/open-office-hours-4/
LOCATION:Diva Espresso\, 6728 NE 181st St #3805\, Kenmore\, Washington\, 98028
ATTACH;FMTTYPE=image/jpeg:https://findkenmore.org/wp-content/uploads/2026/01/Coffee-Beans-3.jpg
ORGANIZER;CN="Episcopal Church of the Redeemer":MAILTO:office@rrchapman.us
END:VEVENT
END:VCALENDAR